BEGIN:VCALENDAR
VERSION:2.0
PRODID:-//Contratero//ES
CALSCALE:GREGORIAN
METHOD:PUBLISH
BEGIN:VEVENT
UID:SSCC PA 237/24@contratero.es
DTSTAMP:20260421T120946Z
DTSTART:20250124T235959
DTEND:20250125T005959
SUMMARY:Cierre: El objeto de este contrato es el desarrollo y pues
DESCRIPTION:El objeto de este contrato es el desarrollo y puesta en funcionamiento de una herramienta para la justificación\, registro de dosis y optimización de las radiaciones ionizantes de uso médico en el ámbi...\\n\\nOrganismo: Servicio de Salud de las Illes Balears\\n\\nVer en Contratero: https://contratero.es/contracts/SSCC PA 237/24
URL:https://contratero.es/contracts/SSCC PA 237/24
STATUS:CONFIRMED
BEGIN:VALARM
TRIGGER:-P1D
ACTION:DISPLAY
DESCRIPTION:Recordatorio: El objeto de este contrato es 
END:VALARM
END:VEVENT
END:VCALENDAR